BEGIN:VCALENDAR
VERSION:2.0
PRODID:-//San Francisco Bay Times - ECPv5.1.0//NONSGML v1.0//EN
CALSCALE:GREGORIAN
METHOD:PUBLISH
X-WR-CALNAME:San Francisco Bay Times
X-ORIGINAL-URL:https://sfbaytimes.com
X-WR-CALDESC:Events for San Francisco Bay Times
BEGIN:VTIMEZONE
TZID:America/Los_Angeles
BEGIN:DAYLIGHT
TZOFFSETFROM:-0800
TZOFFSETTO:-0700
TZNAME:PDT
DTSTART:20190310T100000
END:DAYLIGHT
BEGIN:STANDARD
TZOFFSETFROM:-0700
TZOFFSETTO:-0800
TZNAME:PST
DTSTART:20191103T090000
END:STANDARD
END:VTIMEZONE
BEGIN:VEVENT
DTSTART;TZID=America/Los_Angeles:20190508T180000
DTEND;TZID=America/Los_Angeles:20190508T210000
DTSTAMP:20260420T161225
CREATED:20190501T213121Z
LAST-MODIFIED:20190501T213121Z
UID:23007-1557338400-1557349200@sfbaytimes.com
SUMMARY:The Global State of Gay Men’s Health
DESCRIPTION:@ SF Oasis\, 298 11th Street. The event will present a conversation\, led by MPact Global Action for Gay Men’s Health and Rights’ George Ayala and other local and international experts\, on issues of health and human rights\, and information on how community members living in the Bay Area can get involved. 6-9pm. http://www.mpactgolobal.org \n
URL:https://sfbaytimes.com/event/global-state-gay-mens-health/
END:VEVENT
BEGIN:VEVENT
DTSTART;TZID=America/Los_Angeles:20190508T183000
DTEND;TZID=America/Los_Angeles:20190508T210000
DTSTAMP:20260420T161225
CREATED:20190501T213717Z
LAST-MODIFIED:20190501T213717Z
UID:23009-1557340200-1557349200@sfbaytimes.com
SUMMARY:Oakland Pride Queer Movie Night Series
DESCRIPTION:@ Club 21\, 2111 Franklin Street\, Oakland. Benefiting the 10th Anniversary of Oakland Pride\, the event is one in a series of movie nights featuring the screening of selected classic and contemporary films. 6:30-9pm. http://www.oaklandpride.org \n
URL:https://sfbaytimes.com/event/oakland-pride-queer-movie-night-series/
END:VEVENT
END:VCALENDAR