BEGIN:VCALENDAR
VERSION:2.0
PRODID:-//San Francisco Bay Times - ECPv5.1.0//NONSGML v1.0//EN
CALSCALE:GREGORIAN
METHOD:PUBLISH
X-WR-CALNAME:San Francisco Bay Times
X-ORIGINAL-URL:https://sfbaytimes.com
X-WR-CALDESC:Events for San Francisco Bay Times
BEGIN:VTIMEZONE
TZID:America/Los_Angeles
BEGIN:DAYLIGHT
TZOFFSETFROM:-0800
TZOFFSETTO:-0700
TZNAME:PDT
DTSTART:20190310T100000
END:DAYLIGHT
BEGIN:STANDARD
TZOFFSETFROM:-0700
TZOFFSETTO:-0800
TZNAME:PST
DTSTART:20191103T090000
END:STANDARD
END:VTIMEZONE
BEGIN:VEVENT
DTSTART;TZID=America/Los_Angeles:20190510T190000
DTEND;TZID=America/Los_Angeles:20190510T190000
DTSTAMP:20260420T161225
CREATED:20190501T213913Z
LAST-MODIFIED:20190501T213913Z
UID:23015-1557514800-1557514800@sfbaytimes.com
SUMMARY:Dreamgirls in Concert
DESCRIPTION:@ Creative Arts Building\, McKenna Theatre\, San Francisco State University. The concert version of the famed musical show features students and staff with the coaching of Beach Blanket Babylon star and faculty member Renée Lubin and musical direction by Dee Spencer. 7pm. http://bit.ly/2Lgq3nC \n
URL:https://sfbaytimes.com/event/dreamgirls-in-concert/
END:VEVENT
BEGIN:VEVENT
DTSTART;TZID=America/Los_Angeles:20190510T200000
DTEND;TZID=America/Los_Angeles:20190510T200000
DTSTAMP:20260420T161225
CREATED:20190501T214015Z
LAST-MODIFIED:20190501T214015Z
UID:23017-1557518400-1557518400@sfbaytimes.com
SUMMARY:Michael Feinstein
DESCRIPTION:@ Feinstein’s at The Nikko\, 222 Mason Street. Two-time Emmy Award and five-time Grammy Award-nominated entertainer Michael Feinstein returns to San Francisco to perform at his namesake venue. 8pm continuing on May 11 and 12. http://www.feinsteinsatthenikko.com \n
URL:https://sfbaytimes.com/event/michael-feinstein-2/2019-05-10/
END:VEVENT
BEGIN:VEVENT
DTSTART;TZID=America/Los_Angeles:20190510T200000
DTEND;TZID=America/Los_Angeles:20190510T200000
DTSTAMP:20260420T161225
CREATED:20190501T214108Z
LAST-MODIFIED:20190501T214138Z
UID:23021-1557518400-1557518400@sfbaytimes.com
SUMMARY:Finding Your Voice: A Collection of New Works by GAPA Theatre
DESCRIPTION:@ Bindlestiff Studio\, 185 6th Street. Included will be a collection of original works written and performed by members of the Gay Asian Pacific Alliance (GAPA) Theatre group. 8pm. GAPA Theater on Facebook \n
URL:https://sfbaytimes.com/event/finding-voice-collection-new-works-gapa-theatre/
END:VEVENT
END:VCALENDAR