BEGIN:VCALENDAR
VERSION:2.0
PRODID:-//San Francisco Bay Times - ECPv5.1.0//NONSGML v1.0//EN
CALSCALE:GREGORIAN
METHOD:PUBLISH
X-WR-CALNAME:San Francisco Bay Times
X-ORIGINAL-URL:https://sfbaytimes.com
X-WR-CALDESC:Events for San Francisco Bay Times
BEGIN:VTIMEZONE
TZID:America/Los_Angeles
BEGIN:DAYLIGHT
TZOFFSETFROM:-0800
TZOFFSETTO:-0700
TZNAME:PDT
DTSTART:20190310T100000
END:DAYLIGHT
BEGIN:STANDARD
TZOFFSETFROM:-0700
TZOFFSETTO:-0800
TZNAME:PST
DTSTART:20191103T090000
END:STANDARD
END:VTIMEZONE
BEGIN:VEVENT
DTSTART;TZID=America/Los_Angeles:20190518T170000
DTEND;TZID=America/Los_Angeles:20190518T170000
DTSTAMP:20260420T161235
CREATED:20190515T214932Z
LAST-MODIFIED:20190515T214932Z
UID:23184-1558198800-1558198800@sfbaytimes.com
SUMMARY:NCLR 2019 Anniversary Celebration
DESCRIPTION:@ SF Marriott Marquis (Dinner) 780 Mission Street and City View at Metreon (Party)\, 135 4th Street. “The annual event” for lesbians and their friends\,” this occasion includes an inspiring dinner party followed by a high-energy party. 5pm Dinner/8:30pm Party. http://www.nclrights.org \n
URL:https://sfbaytimes.com/event/nclr-2019-anniversary-celebration/
END:VEVENT
BEGIN:VEVENT
DTSTART;TZID=America/Los_Angeles:20190518T190000
DTEND;TZID=America/Los_Angeles:20190518T190000
DTSTAMP:20260420T161235
CREATED:20190515T214828Z
LAST-MODIFIED:20190515T214828Z
UID:23182-1558206000-1558206000@sfbaytimes.com
SUMMARY:Spotlight on Broadway
DESCRIPTION:@ Sir Francis Drake Hotel\, 450 Powell Street. SF Lesbian/Gay Freedom Band’s annual benefit\, includes sing-alongs plus a raffle\, auctions and a bidding opportunity to conduct the band. http://www.sflgb.com \n
URL:https://sfbaytimes.com/event/spotlight-on-broadway/
END:VEVENT
BEGIN:VEVENT
DTSTART;TZID=America/Los_Angeles:20190518T190000
DTEND;TZID=America/Los_Angeles:20190518T190000
DTSTAMP:20260420T161235
CREATED:20190515T215035Z
LAST-MODIFIED:20190515T215035Z
UID:23186-1558206000-1558206000@sfbaytimes.com
SUMMARY:Roast of Sister Roma
DESCRIPTION:@ The Castro Theatre\, 429 Castro Street. Oasis at The Castro presents a one night only no-holds-barred roast of one of San Francisco’s iconic drag personalities. Featured guests include Varla Jean Merman\, Bob the Drag Queen\, Jackie Beat\, Sherry Vine\, Ross “The Intern” Matthews and formidable Heklina. 7pm. http://www.castrotheatre.com \n
URL:https://sfbaytimes.com/event/roast-sister-roma/
END:VEVENT
END:VCALENDAR