BEGIN:VCALENDAR
VERSION:2.0
PRODID:-//San Francisco Bay Times - ECPv5.1.0//NONSGML v1.0//EN
CALSCALE:GREGORIAN
METHOD:PUBLISH
X-WR-CALNAME:San Francisco Bay Times
X-ORIGINAL-URL:https://sfbaytimes.com
X-WR-CALDESC:Events for San Francisco Bay Times
BEGIN:VTIMEZONE
TZID:America/Los_Angeles
BEGIN:DAYLIGHT
TZOFFSETFROM:-0800
TZOFFSETTO:-0700
TZNAME:PDT
DTSTART:20190310T100000
END:DAYLIGHT
BEGIN:STANDARD
TZOFFSETFROM:-0700
TZOFFSETTO:-0800
TZNAME:PST
DTSTART:20191103T090000
END:STANDARD
END:VTIMEZONE
BEGIN:VEVENT
DTSTART;TZID=America/Los_Angeles:20190519T130000
DTEND;TZID=America/Los_Angeles:20190519T140000
DTSTAMP:20260420T161224
CREATED:20190515T215215Z
LAST-MODIFIED:20190515T215215Z
UID:23188-1558270800-1558274400@sfbaytimes.com
SUMMARY:Annual Harvey Milk Commemoration
DESCRIPTION:@ Harvey Milk Plaza\, Castro and Market Streets. Music\, comments & a march down Castro Street to 575 Castro\, the former site of Harvey’s store\, Castro Camera. 1-2pm. \n
URL:https://sfbaytimes.com/event/annual-harvey-milk-commemoration/
END:VEVENT
BEGIN:VEVENT
DTSTART;TZID=America/Los_Angeles:20190519T140000
DTEND;TZID=America/Los_Angeles:20190519T170000
DTSTAMP:20260420T161224
CREATED:20190515T215948Z
LAST-MODIFIED:20190515T215948Z
UID:23190-1558274400-1558285200@sfbaytimes.com
SUMMARY:Harvey Milk Plaza Celebration
DESCRIPTION:@ 541 Castro. Friends of Harvey Milk Plaza will host a celebration of the plaza redesign project with the latest renderings shared with the public for the first time. 2-5pm. https://tinyurl.com/y59zbc8z \n
URL:https://sfbaytimes.com/event/harvey-milk-plaza-celebration/
END:VEVENT
BEGIN:VEVENT
DTSTART;TZID=America/Los_Angeles:20190519T140000
DTEND;TZID=America/Los_Angeles:20190519T140000
DTSTAMP:20260420T161224
CREATED:20190515T220206Z
LAST-MODIFIED:20190515T220206Z
UID:23192-1558274400-1558274400@sfbaytimes.com
SUMMARY:Community Women’s Orchestra Spring Concert
DESCRIPTION:@ Lake Merritt United Methodist Church\, 1330 Lakeshore Avenue\, Oakland. Beethoven’s 7th Symphony\, Glinka’s Ruslan & Lyudmila Overture\, and Bushnaq’s “The Borrowed Dress” comprise the program. 2pm. https://tinyurl.com/y56qlcbo \n
URL:https://sfbaytimes.com/event/community-womens-orchestra-spring-concert/
END:VEVENT
END:VCALENDAR