BEGIN:VCALENDAR
VERSION:2.0
PRODID:-//San Francisco Bay Times - ECPv5.1.0//NONSGML v1.0//EN
CALSCALE:GREGORIAN
METHOD:PUBLISH
X-WR-CALNAME:San Francisco Bay Times
X-ORIGINAL-URL:https://sfbaytimes.com
X-WR-CALDESC:Events for San Francisco Bay Times
BEGIN:VTIMEZONE
TZID:America/Los_Angeles
BEGIN:DAYLIGHT
TZOFFSETFROM:-0800
TZOFFSETTO:-0700
TZNAME:PDT
DTSTART:20190310T100000
END:DAYLIGHT
BEGIN:STANDARD
TZOFFSETFROM:-0700
TZOFFSETTO:-0800
TZNAME:PST
DTSTART:20191103T090000
END:STANDARD
END:VTIMEZONE
BEGIN:VEVENT
DTSTART;VALUE=DATE:20190522
DTEND;VALUE=DATE:20190523
DTSTAMP:20260420T161235
CREATED:20190515T221045Z
LAST-MODIFIED:20190515T221045Z
UID:23206-1558483200-1558569599@sfbaytimes.com
SUMMARY:Harvey Milk’s Birthday
DESCRIPTION:
URL:https://sfbaytimes.com/event/harvey-milks-birthday/
END:VEVENT
BEGIN:VEVENT
DTSTART;TZID=America/Los_Angeles:20190522T113000
DTEND;TZID=America/Los_Angeles:20190522T113000
DTSTAMP:20260420T161235
CREATED:20190515T221134Z
LAST-MODIFIED:20190515T221134Z
UID:23208-1558524600-1558524600@sfbaytimes.com
SUMMARY:Castro Cares
DESCRIPTION:@ CBD\, 693 14th Street. Find out about the work of the Castro Cares project keeping our streets clean and safe. 11:30am. http://wwww.castrocbd.org \n
URL:https://sfbaytimes.com/event/castro-cares/
END:VEVENT
BEGIN:VEVENT
DTSTART;TZID=America/Los_Angeles:20190522T180000
DTEND;TZID=America/Los_Angeles:20190522T180000
DTSTAMP:20260420T161235
CREATED:20190515T221316Z
LAST-MODIFIED:20190515T221316Z
UID:23210-1558548000-1558548000@sfbaytimes.com
SUMMARY:SFMOMA ArtBash
DESCRIPTION:@ San Francisco Museum of Modern Art\, 151 3rd Street. This is a hot benefit with music by A-Trak and other featured artists & all you can eat\, drink and dance. Warhol’s Silver Factory inspired space plus Nick Cave’s Soundsuit Invasions and more. 6pm-1am. http://www.sfmoma.org/artbash \n
URL:https://sfbaytimes.com/event/sfmoma-artbash/
END:VEVENT
BEGIN:VEVENT
DTSTART;TZID=America/Los_Angeles:20190522T183000
DTEND;TZID=America/Los_Angeles:20190522T213000
DTSTAMP:20260420T161235
CREATED:20190515T221424Z
LAST-MODIFIED:20190515T221424Z
UID:23212-1558549800-1558560600@sfbaytimes.com
SUMMARY:Oakland Pride Queer Movie Night Series - Marsha P. Johnson
DESCRIPTION:@ Club 21\, 2111 Franklin Street\, Oakland. Benefiting the 10th Anniversary of Oakland Pride\, the event is one in a series of movie nights featuring the screening of selected classic and contemporary films. 6:30-9pm. http://www.oaklandpride.org \n
URL:https://sfbaytimes.com/event/oakland-pride-queer-movie-night-series-marsha-p-johnson/
END:VEVENT
BEGIN:VEVENT
DTSTART;TZID=America/Los_Angeles:20190522T183000
DTEND;TZID=America/Los_Angeles:20190522T203000
DTSTAMP:20260420T161235
CREATED:20190515T221510Z
LAST-MODIFIED:20190515T221510Z
UID:23214-1558549800-1558557000@sfbaytimes.com
SUMMARY:Academy of Friends Art &  Wine Auction
DESCRIPTION:@ Clift Hotel\, 495 Geary Street. Join AOF in the Clift’s Velvet Room where you can bid on local artists’ artwork from local artists\, yummy wines and experience packages. 6:30-8:30pm. http://www.academyoffirends.org \n
URL:https://sfbaytimes.com/event/academy-friends-art-wine-auction/
END:VEVENT
BEGIN:VEVENT
DTSTART;TZID=America/Los_Angeles:20190522T193000
DTEND;TZID=America/Los_Angeles:20190522T193000
DTSTAMP:20260420T161235
CREATED:20190515T223747Z
LAST-MODIFIED:20190515T223747Z
UID:23216-1558553400-1558553400@sfbaytimes.com
SUMMARY:Bohemian Rhapsody Sing Along
DESCRIPTION:@ Castro Theatre\, 429 Castro Street. You can enter the costume contest and enjoy the goodie bags while you sing along. 7:30pm. http://www.castrotheatre.com \n
URL:https://sfbaytimes.com/event/bohemian-rhapsody-sing-along/
END:VEVENT
END:VCALENDAR